BEGIN:VCALENDAR
VERSION:2.0
PRODID:-//wp-events-plugin.com//7.2.3.1//EN
BEGIN:VEVENT
UID:51@gingerninjacomedy.com
DTSTART:20181201T190000Z
DTEND:20181201T190000Z
DTSTAMP:20181101T202634Z
URL:https://gingerninjacomedy.com/events/millville-chamber-holiday-show/
SUMMARY:Millville Chamber Holiday Show
DESCRIPTION:Start your holiday season off with a lot of laughs!\n\nCome on 
 out to the New Jersey Motorsports Park Officer's Club for one of the hotte
 st comedy events in Cumberland County!  Headlining this show is The Legen
 dary Wid\, whose credits include Stand-Up Spotlight\, Make Me Laugh\, and 
 Caroline’s Comedy Hour!   The show also features John Kensil (Comedy C
 entral\, Good Morning America) and your host Mollie Sperduto (Finalist\, T
 ropicana Comedy Competition)!\n\nThis event is being held SATURDAY\, DECEM
 BER 1ST\, and the club is located at 47 Warbird Dr. in Millville\, NJ.\n\n
 Doors open at 7PM\, show starts at 8.  Admission is only $25 for this gre
 at night!  For more information and to order tickets\, visit the Millvill
 e Chamber's website here.\n\nDon't forget to tell Facebook you're going!
LOCATION:New Jersey Motorsports Park Officer's Club\, 47 Warbird Dr.\, Mill
 ville\, NJ\, United States
GEO:39.3557667;-75.06410499999998
X-APPLE-STRUCTURED-LOCATION;VALUE=URI;X-ADDRESS=47 Warbird Dr.\, Millville\
 , NJ\, United States;X-APPLE-RADIUS=100;X-TITLE=New Jersey Motorsports Par
 k Officer's Club:geo:39.3557667,-75.06410499999998
END:VEVENT
END:VCALENDAR