BEGIN:VCALENDAR
VERSION:2.0
PRODID:-//wp-events-plugin.com//7.2.3.1//EN
BEGIN:VEVENT
UID:169@gingerninjacomedy.com
DTSTART:20260207T180000Z
DTEND:20260207T180000Z
DTSTAMP:20251022T142414Z
URL:https://gingerninjacomedy.com/events/laurel-lodge-comedy-night/
SUMMARY:Love is Funny - A Comedy Night!
DESCRIPTION:Come one out to the beautiful Kove Restaurant and enjoy a comed
 y show for the Laurel Lodge!  Headlining this show is Joey Callahan (Come
 dy Central\, Borgata\, Edinburgh Fringe Festival)\, featuring Jimmy Q (Car
 oline's\, Stand Up New York) and your host Natty Bumpercar (Greenwich Vill
 age Comedy Club).\n\nThis event is being held Saturday\, February 7th\, an
 d The Kove Restaurant is located at 20 West Atlantic Ave.\, in Audubon\, N
 J.\n\nDoors open at 6PM for dinner\, showtime 8PM.  Admission is $75 per 
 person\, which includes a buffet dinner and show.  For more info\, contac
 t Scott at vicari427@gmail.com.
LOCATION:The Kove Restaurant\, 20 West Atlantic Ave.\, Audubon\, NJ\, Unite
 d States
X-APPLE-STRUCTURED-LOCATION;VALUE=URI;X-ADDRESS=20 West Atlantic Ave.\, Aud
 ubon\, NJ\, United States;X-APPLE-RADIUS=100;X-TITLE=The Kove Restaurant:g
 eo:0,0
END:VEVENT
END:VCALENDAR