BEGIN:VCALENDAR
VERSION:2.0
PRODID:-//wp-events-plugin.com//7.2.3.1//EN
BEGIN:VEVENT
UID:84@gingerninjacomedy.com
DTSTART:20200222T191500Z
DTEND:20200222T191500Z
DTSTAMP:20200203T201830Z
URL:https://gingerninjacomedy.com/events/knights-of-columbus-comedy-night/
SUMMARY:Knights of Columbus Comedy Night
DESCRIPTION:Come on out to support the Knights of Columbus with a world-cla
 ss comedy show! Headlining this evening is Doug Karpf (Comedy Cellar\, Bor
 gata\, Performed for US Armed Forces)\, featuring Brett Druck (Laughs TV S
 how\, America's Got Talent) and host Mollie Sperduto (Finalist\, Tropicana
  Comedy Competition).\n\nThe show is being held at St. Leo the Great's\, i
 n the Arts and Athletic Center.  Doors open at 7:15\, showtime 8PM. Ticke
 ts are only $25 - advance purchase only. Make checks payable to K of C Cou
 ncil 6392\, P.O. Box 322\, Lincroft\, NJ 07738. For more information\, cal
 l 732-241-3189.\n\nDon't forget to tell Facebook you're going!
LOCATION:St. Leo the Great\, 50 Hurleys Lane\, Lincroft\, NJ\, United State
 s
GEO:40.333839;-74.117252
X-APPLE-STRUCTURED-LOCATION;VALUE=URI;X-ADDRESS=50 Hurleys Lane\, Lincroft\
 , NJ\, United States;X-APPLE-RADIUS=100;X-TITLE=St. Leo the Great:geo:40.3
 33839,-74.117252
END:VEVENT
END:VCALENDAR