BEGIN:VCALENDAR
VERSION:2.0
PRODID:-//wp-events-plugin.com//7.2.3.1//EN
BEGIN:VEVENT
UID:85@gingerninjacomedy.com
DTSTART:20191212T180000Z
DTEND:20191212T180000Z
DTSTAMP:20191119T222201Z
URL:https://gingerninjacomedy.com/events/holiday-party-and-comedy-show/
SUMMARY:Holiday Party and Comedy Show
DESCRIPTION:\n\nRing in the holidays with the Red Bank Rotary Club\, and en
 joy a great night with a buffet dinner and comedy show! Headlining this sh
 ow is Rich Shultis (WDPH Radio\, The Comedy Store\, LOL Comedy Club)\, fea
 turing Joan Weisblatt (Season 2 winner of "Comics Watching Comics" on Amaz
 on Prime).\n\nThis event is being held Thursday\, December 12th\, at Schwa
 rtz Mazda\, which is located at 585 Shrewsbury Ave. in Shrewsbury\, NJ.\nB
 uffet dinner starts at 6PM\, showtime 7PM. Admission $50 per person – re
 gister at RedBankRotary.org\, or contact Jay@SchwartzMazda.com for more in
 formation.\n\nSpace is limited - reserve today!\n\nDon't forget to tell Fa
 cebook you're going!
LOCATION:Schwartz Mazda\, 585 Shrewsbury Ave.\, Shrewsbury\, NJ\, United St
 ates
GEO:40.3305696;-74.0726962
X-APPLE-STRUCTURED-LOCATION;VALUE=URI;X-ADDRESS=585 Shrewsbury Ave.\, Shrew
 sbury\, NJ\, United States;X-APPLE-RADIUS=100;X-TITLE=Schwartz Mazda:geo:4
 0.3305696,-74.0726962
END:VEVENT
END:VCALENDAR