BEGIN:VCALENDAR
VERSION:2.0
PRODID:-//wp-events-plugin.com//7.2.3.1//EN
BEGIN:VEVENT
UID:5@gingerninjacomedy.com
DTSTART:20160213T170000Z
DTEND:20160213T170000Z
DTSTAMP:20160129T232941Z
URL:https://gingerninjacomedy.com/events/fundraiser-for-the-mystic-island-
 american-legion-post-493/
SUMMARY:Fundraiser for the Mystic Island American Legion post 493
DESCRIPTION:\n\nA great evening with dinner and a comedy show!  Dinner is 
 from 5-7 with the show starting at 8 - come on by and enjoy either\, or bo
 th!\n\nHeadlining this event is the fantastic JERROLD BENFORD (Caroline's\
 , NY Comedy Club\, Gotham Comedy Club)\, featuring SANDY EHLERS (The View\
 , Writer of One-Woman Show "Brassy\, Sassy and Gassy") and host MOLLIE SPE
 RDUTO (finalist\, 2014 Comedy Competition at the Tropicana Atlantic City).
 \n\nCall 609-296-9771 for tickets and more information!\n\nClick here and 
 let Facebook know you're coming!
LOCATION:Mystic Island American Legion\, 420 Radio Rd.\, Little Egg Harbor\
 , New Jersey\, United States
GEO:39.590816;-74.35237489999997
X-APPLE-STRUCTURED-LOCATION;VALUE=URI;X-ADDRESS=420 Radio Rd.\, Little Egg 
 Harbor\, New Jersey\, United States;X-APPLE-RADIUS=100;X-TITLE=Mystic Isla
 nd American Legion:geo:39.590816,-74.35237489999997
END:VEVENT
END:VCALENDAR