BEGIN:VCALENDAR
VERSION:2.0
PRODID:-//wp-events-plugin.com//7.2.3.1//EN
BEGIN:VEVENT
UID:168@gingerninjacomedy.com
DTSTART:20251004T190000Z
DTEND:20251004T220000Z
DTSTAMP:20250923T001337Z
URL:https://gingerninjacomedy.com/events/firehouse-comedy-night-4/
SUMMARY:Firehouse Comedy Night
DESCRIPTION:Celebrate fall by supporting your local firefighters\, all whil
 e enjoying some great comedy!  Headlining this show is Rich Shultis (WDPH
  Radio\, The Comedy Store\, LOL Comedy Club).  Also appearing on this sho
 w is Jimmy Q (Caroline's\, Stand Up New York) along with host Angelo Ging
 erelli (Comedy on Cookman\, Asbury Underground).\n\nThis event is being he
 ld Saturday\, October 4th\, at the Jackson Fire Station 55\, located at 11
 3 N. New Prospect Rd. in Jackson\, NJ.\n\nDoors open at 7PM\, showtime 8PM
 .  Tickets are only $40\, BYO food with cash bar.  For more info\, call 
 Mim at 732-272-5845.
LOCATION:Jackson Fire Station 55\, 113 North New Prospect Rd.\, Jackson\, N
 J\, United States
X-APPLE-STRUCTURED-LOCATION;VALUE=URI;X-ADDRESS=113 North New Prospect Rd.\
 , Jackson\, NJ\, United States;X-APPLE-RADIUS=100;X-TITLE=Jackson Fire Sta
 tion 55:geo:0,0
END:VEVENT
END:VCALENDAR