BEGIN:VCALENDAR
VERSION:2.0
PRODID:-//wp-events-plugin.com//7.2.3.1//EN
BEGIN:VEVENT
UID:50@gingerninjacomedy.com
DTSTART:20190222T183000Z
DTEND:20190222T183000Z
DTSTAMP:20190206T040805Z
URL:https://gingerninjacomedy.com/events/daughters-of-mary-2019-comedy-nig
 ht/
SUMMARY:Daughters of Mary 2019 Comedy Night
DESCRIPTION:Back for its second year!\n\nCome on out to Peapack\, New Jerse
 y for some good\, clean fun at this comedy night to support the Daughters 
 of Mary.  This year's show features local legend Robin Fox (TV's "Nickmom
  Night Out\," 2012 Grand Champion of Ladies of Laughter Competition at Got
 ham Comedy Club\, NYC)\, featuring Jimmy Q (Caroline's\, Stand Up New York
 ) and your host Natty Bumpercar (Broadway Comedy Club\, Greenwich Village 
 Comedy Club).\n\nDoors open at 6:30 for an Italian buffet dinner\, with th
 e show to follow. Tickets are only $35 for this great night!\n\nFor more i
 nformation\, or to make a reservation\, call 908-234-1265 or email bpet424
 2@gmail.com.\n\nDon't forget to tell Facebook you're going!
LOCATION:Saint Brigid Parish\, 129 Main St.\, Peapack\, NJ\, United States
GEO:40.7133247;-74.65871349999998
X-APPLE-STRUCTURED-LOCATION;VALUE=URI;X-ADDRESS=129 Main St.\, Peapack\, NJ
 \, United States;X-APPLE-RADIUS=100;X-TITLE=Saint Brigid Parish:geo:40.713
 3247,-74.65871349999998
END:VEVENT
END:VCALENDAR