BEGIN:VCALENDAR
VERSION:2.0
PRODID:-//wp-events-plugin.com//7.2.3.1//EN
BEGIN:VEVENT
UID:82@gingerninjacomedy.com
DTSTART:20191108T190000Z
DTEND:20191108T190000Z
DTSTAMP:20191105T214557Z
URL:https://gingerninjacomedy.com/events/comedy-night-at-the-lodge-3/
SUMMARY:Comedy Night at the Lodge
DESCRIPTION:\n\nCome on out to the Colonial Prospect Lodge\, and enjoy your
 self with a dinner and comedy show – a great idea for a night out!  Hea
 dlining this show is Joe Fernandes (Bananas Comedy Club\, Gotham Comedy C
 lub)\, featuring Sandy Ehlers (The View\, one-woman show “Brassy\, Sassy
  and Gassy”) and host Greg Radin (Comic Strip Live\, 2016 Winner 360 Co
 medy Festival: funniest over 40).\n\nThis event is being held Friday\, Nov
 ember 8th at the Colonial Prospect Lodge\, located at 370 East Main St. in
  Chester\, NJ.\n\nDoors open at 7:00 for the buffet (hot and cold appetize
 rs)\, showtime 8PM.  Admission is $35 per person - for tickets and info\,
  call Marc at 973-615-6544.
LOCATION:Colonial-Prospect Lodge No. 24\, F.&A.M.\, 370 East Main St.\, Che
 ster\, New Jersey\, United States
GEO:40.7875738;-74.68594989999997
X-APPLE-STRUCTURED-LOCATION;VALUE=URI;X-ADDRESS=370 East Main St.\, Chester
 \, New Jersey\, United States;X-APPLE-RADIUS=100;X-TITLE=Colonial-Prospect
  Lodge No. 24\, F.&A.M.:geo:40.7875738,-74.68594989999997
END:VEVENT
END:VCALENDAR