BEGIN:VCALENDAR
VERSION:2.0
PRODID:-//wp-events-plugin.com//7.2.3.1//EN
BEGIN:VEVENT
UID:3@gingerninjacomedy.com
DTSTART:20151113T190000Z
DTEND:20151113T190000Z
DTSTAMP:20151012T051102Z
URL:https://gingerninjacomedy.com/events/backstage-pass-show-at-the-strand
 -fundraiser-for-brick-kiwanis/
SUMMARY:BACKSTAGE PASS show at the Strand - fundraiser for Brick Kiwanis
DESCRIPTION:Buy Tickets Online Here!\n\n\n\nHilarious Doug Karpf\, who has 
 performed across the country at clubs\, casinos &amp\; the U.S. Armed Forc
 es\; Andy Hayward\, a New York comic who has had the honor of performing f
 or the NYC Friars Club &amp\; Brick native Mollie Sperduto\, finalist at t
 he Comedy Competition at the Tropicana Casino are the side-splitting headl
 iners for this Kiwanis Fundraiser!\n\nKiwanis\, established in 1915\, is a
  service organization serving communities in over eighty countries! Brick 
 Kiwanis Club was chartered in 1958\, &amp\; has been serving Brick &amp\; 
 surrounding communities for more than half a century. One of the objective
 s of Kiwanis is to provide\, through a practical means\, to form enduring 
 friendships\, to render altruistic service &amp\; to build better communit
 ies. The Brick Kiwanis meets on the first and third Thursdays of the month
  at Tuscany Bar and Restaurant in Brick\, NJ. New members are welcome.\n\n
 All proceeds will benefit Kiwanis youth charities and local children’s c
 harities. Tickets $25 (plus $5 fee per ticket). Doors open at 7!
LOCATION:The Strand Theater\, 400 Clifton Ave.\, Lakewood\, New Jersey\, Un
 ited States
GEO:40.0940959;-74.21501080000002
X-APPLE-STRUCTURED-LOCATION;VALUE=URI;X-ADDRESS=400 Clifton Ave.\, Lakewood
 \, New Jersey\, United States;X-APPLE-RADIUS=100;X-TITLE=The Strand Theate
 r:geo:40.0940959,-74.21501080000002
END:VEVENT
END:VCALENDAR